BEGIN:VCALENDAR
VERSION:2.0
PRODID:-//Klub Sportowy Powiśle - ECPv4.6.8//NONSGML v1.0//EN
CALSCALE:GREGORIAN
METHOD:PUBLISH
X-WR-CALNAME:Klub Sportowy Powiśle
X-ORIGINAL-URL:https://www.kspowisle.pl
X-WR-CALDESC:Events for Klub Sportowy Powiśle
BEGIN:VEVENT
DTSTART;TZID=Europe/Warsaw:20141216T163000
DTEND;TZID=Europe/Warsaw:20141216T180000
DTSTAMP:20260422T230920
CREATED:20141119T092540Z
LAST-MODIFIED:20141119T092540Z
UID:1944-1418747400-1418752800@www.kspowisle.pl
SUMMARY:Trening na sali gimnastycznej
DESCRIPTION: 
URL:https://www.kspowisle.pl/event/trening-na-sali-gimnastycznej-10/
END:VEVENT
END:VCALENDAR