BEGIN:VCALENDAR
VERSION:2.0
PRODID:-//Klub Sportowy Powiśle - ECPv4.6.8//NONSGML v1.0//EN
CALSCALE:GREGORIAN
METHOD:PUBLISH
X-WR-CALNAME:Klub Sportowy Powiśle
X-ORIGINAL-URL:https://www.kspowisle.pl
X-WR-CALDESC:Events for Klub Sportowy Powiśle
BEGIN:VEVENT
DTSTART;TZID=Europe/Warsaw:20141126T174500
DTEND;TZID=Europe/Warsaw:20141126T191500
DTSTAMP:20260423T003949
CREATED:20141119T091816Z
LAST-MODIFIED:20141119T091816Z
UID:1937-1417023900-1417029300@www.kspowisle.pl
SUMMARY:Trening na sali gimnastycznej
DESCRIPTION: 
URL:https://www.kspowisle.pl/event/trening-na-sali-gimnastycznej-3/
LOCATION:Myśliwiecka 6\, Warszawa\, Polska
END:VEVENT
END:VCALENDAR