BEGIN:VCALENDAR
VERSION:2.0
PRODID:-//Klub Sportowy Powiśle - ECPv4.6.8//NONSGML v1.0//EN
CALSCALE:GREGORIAN
METHOD:PUBLISH
X-WR-CALNAME:Klub Sportowy Powiśle
X-ORIGINAL-URL:https://www.kspowisle.pl
X-WR-CALDESC:Events for Klub Sportowy Powiśle
BEGIN:VEVENT
DTSTART;TZID=Europe/Warsaw:20141125T163000
DTEND;TZID=Europe/Warsaw:20141125T180000
DTSTAMP:20260423T023903
CREATED:20141119T090708Z
LAST-MODIFIED:20141119T090708Z
UID:1926-1416933000-1416938400@www.kspowisle.pl
SUMMARY:Trening na sali gimnastycznej
DESCRIPTION: SP nr 34\, ul.Kruczkowskiego 12 B (niedaleko stacji Powiśle) \n
URL:https://www.kspowisle.pl/event/trening-na-sali-gimnastycznej/
END:VEVENT
END:VCALENDAR