BEGIN:VCALENDAR
VERSION:2.0
PRODID:-//Klub Sportowy Powiśle - ECPv4.6.8//NONSGML v1.0//EN
CALSCALE:GREGORIAN
METHOD:PUBLISH
X-WR-CALNAME:Klub Sportowy Powiśle
X-ORIGINAL-URL:https://www.kspowisle.pl
X-WR-CALDESC:Events for Klub Sportowy Powiśle
BEGIN:VEVENT
DTSTART;TZID=Europe/Warsaw:20140901T170000
DTEND;TZID=Europe/Warsaw:20140901T193000
DTSTAMP:20260423T091952
CREATED:20140831T154624Z
LAST-MODIFIED:20140831T154624Z
UID:1822-1409590800-1409599800@www.kspowisle.pl
SUMMARY:Trening seniorów
DESCRIPTION: 
URL:https://www.kspowisle.pl/event/trening-seniorow-5/
LOCATION:Solec 8\, Warszawa\, Polska
END:VEVENT
END:VCALENDAR