BEGIN:VCALENDAR
VERSION:2.0
PRODID:-//Klub Sportowy Powiśle - ECPv4.6.8//NONSGML v1.0//EN
CALSCALE:GREGORIAN
METHOD:PUBLISH
X-WR-CALNAME:Klub Sportowy Powiśle
X-ORIGINAL-URL:https://www.kspowisle.pl
X-WR-CALDESC:Events for Klub Sportowy Powiśle
BEGIN:VEVENT
DTSTART;TZID=Europe/Warsaw:20150517T143000
DTEND;TZID=Europe/Warsaw:20150517T163000
DTSTAMP:20260422T064749
CREATED:20150505T111923Z
LAST-MODIFIED:20150505T111923Z
UID:2417-1431873000-1431880200@www.kspowisle.pl
SUMMARY:Trening seniorów
DESCRIPTION: 
URL:https://www.kspowisle.pl/event/trening-seniorow-9/
LOCATION:Solec 8\, Warszawa\, Polska
CATEGORIES:Trening seniorów
END:VEVENT
END:VCALENDAR