BEGIN:VCALENDAR
VERSION:2.0
PRODID:-//Klub Sportowy Powiśle - ECPv4.6.8//NONSGML v1.0//EN
CALSCALE:GREGORIAN
METHOD:PUBLISH
X-WR-CALNAME:Klub Sportowy Powiśle
X-ORIGINAL-URL:https://www.kspowisle.pl
X-WR-CALDESC:Events for Klub Sportowy Powiśle
BEGIN:VEVENT
DTSTART;TZID=Europe/Warsaw:20150307T110000
DTEND;TZID=Europe/Warsaw:20150307T123000
DTSTAMP:20260422T093532
CREATED:20150214T092335Z
LAST-MODIFIED:20150214T092335Z
UID:2215-1425726000-1425731400@www.kspowisle.pl
SUMMARY:Trening w klubie
DESCRIPTION: 
URL:https://www.kspowisle.pl/event/trening-w-klubie-13/
LOCATION:Solec 8\, Warszawa\, Polska
END:VEVENT
END:VCALENDAR