BEGIN:VCALENDAR
VERSION:2.0
PRODID:-//Klub Sportowy Powiśle - ECPv4.6.8//NONSGML v1.0//EN
CALSCALE:GREGORIAN
METHOD:PUBLISH
X-WR-CALNAME:Klub Sportowy Powiśle
X-ORIGINAL-URL:https://www.kspowisle.pl
X-WR-CALDESC:Events for Klub Sportowy Powiśle
BEGIN:VEVENT
DTSTART;TZID=Europe/Warsaw:20150410T171000
DTEND;TZID=Europe/Warsaw:20150410T190000
DTSTAMP:20260422T102245
CREATED:20150327T092107Z
LAST-MODIFIED:20150327T092107Z
UID:2311-1428685800-1428692400@www.kspowisle.pl
SUMMARY:Trening w klubie
DESCRIPTION: 
URL:https://www.kspowisle.pl/event/trening-w-klubie-23/
LOCATION:ul. Malinowa 6\, Kaniów\, Polska
END:VEVENT
END:VCALENDAR