BEGIN:VCALENDAR
VERSION:2.0
PRODID:-//Klub Sportowy Powiśle - ECPv4.6.8//NONSGML v1.0//EN
CALSCALE:GREGORIAN
METHOD:PUBLISH
X-WR-CALNAME:Klub Sportowy Powiśle
X-ORIGINAL-URL:https://www.kspowisle.pl
X-WR-CALDESC:Events for Klub Sportowy Powiśle
BEGIN:VEVENT
DTSTART;TZID=Europe/Warsaw:20150425T110000
DTEND;TZID=Europe/Warsaw:20150425T130000
DTSTAMP:20260422T085155
CREATED:20150327T093424Z
LAST-MODIFIED:20150327T093541Z
UID:2319-1429959600-1429966800@www.kspowisle.pl
SUMMARY:Trening w klubie
DESCRIPTION: 
URL:https://www.kspowisle.pl/event/trening-w-klubie-30/
LOCATION:Solec 8\, Warszawa\, Polska
END:VEVENT
END:VCALENDAR