BEGIN:VCALENDAR
VERSION:2.0
PRODID:-//Klub Sportowy Powiśle - ECPv4.6.8//NONSGML v1.0//EN
CALSCALE:GREGORIAN
METHOD:PUBLISH
X-WR-CALNAME:Klub Sportowy Powiśle
X-ORIGINAL-URL:https://www.kspowisle.pl
X-WR-CALDESC:Events for Klub Sportowy Powiśle
BEGIN:VEVENT
DTSTART;TZID=Europe/Warsaw:20150131T110000
DTEND;TZID=Europe/Warsaw:20150131T123000
DTSTAMP:20260422T031212
CREATED:20150117T130300Z
LAST-MODIFIED:20150117T130301Z
UID:2125-1422702000-1422707400@www.kspowisle.pl
SUMMARY:Trening w klubie
DESCRIPTION: 
URL:https://www.kspowisle.pl/event/trening-w-klubie-8/
LOCATION:Solec 8\, Warszawa\, Polska
END:VEVENT
END:VCALENDAR