BEGIN:VCALENDAR
VERSION:2.0
PRODID:-//Klub Sportowy Powiśle - ECPv4.6.8//NONSGML v1.0//EN
CALSCALE:GREGORIAN
METHOD:PUBLISH
X-WR-CALNAME:Klub Sportowy Powiśle
X-ORIGINAL-URL:https://www.kspowisle.pl
X-WR-CALDESC:Events for Klub Sportowy Powiśle
BEGIN:VEVENT
DTSTART;TZID=Europe/Warsaw:20150401T170000
DTEND;TZID=Europe/Warsaw:20150401T183000
DTSTAMP:20260422T113012
CREATED:20150322T101458Z
LAST-MODIFIED:20150331T202727Z
UID:2281-1427907600-1427913000@www.kspowisle.pl
SUMMARY:Trening w klubie - odwołany
DESCRIPTION: 
URL:https://www.kspowisle.pl/event/trening-w-klubie-9/
LOCATION:Solec 8\, Warszawa\, Polska
END:VEVENT
END:VCALENDAR