BEGIN:VCALENDAR
VERSION:2.0
PRODID:-//Klub Sportowy Powiśle - ECPv4.6.8//NONSGML v1.0//EN
CALSCALE:GREGORIAN
METHOD:PUBLISH
X-WR-CALNAME:Klub Sportowy Powiśle
X-ORIGINAL-URL:https://www.kspowisle.pl
X-WR-CALDESC:Events for Klub Sportowy Powiśle
BEGIN:VEVENT
DTSTART;VALUE=DATE:20151205
DTEND;VALUE=DATE:20151207
DTSTAMP:20260421T134045
CREATED:20160329T115317Z
LAST-MODIFIED:20160329T115317Z
UID:2748-1449273600-1449446399@www.kspowisle.pl
SUMMARY:Turniej Międzynarodowy
DESCRIPTION: Wyjazd na zawody dofinansowany ze środków m. st. Warszawy. \n \n
URL:https://www.kspowisle.pl/event/turniej-miedzynarodowy-3/
LOCATION:Naujoji g. 52\, Alytus\, 62381
CATEGORIES:Zawody
END:VEVENT
END:VCALENDAR