BEGIN:VCALENDAR
VERSION:2.0
PRODID:-//Klub Sportowy Powiśle - ECPv4.6.8//NONSGML v1.0//EN
CALSCALE:GREGORIAN
METHOD:PUBLISH
X-WR-CALNAME:Klub Sportowy Powiśle
X-ORIGINAL-URL:https://www.kspowisle.pl
X-WR-CALDESC:Events for Klub Sportowy Powiśle
BEGIN:VEVENT
DTSTART;VALUE=DATE:20151114
DTEND;VALUE=DATE:20151116
DTSTAMP:20260421T154913
CREATED:20160329T115511Z
LAST-MODIFIED:20160329T115511Z
UID:2750-1447459200-1447631999@www.kspowisle.pl
SUMMARY:Turniej Międzynarodowy
DESCRIPTION: 
URL:https://www.kspowisle.pl/event/turniej-miedzynarodowy-4/
LOCATION:Naujoji g. 52\, Alytus\, 62381
CATEGORIES:Zawody
END:VEVENT
END:VCALENDAR