BEGIN:VCALENDAR
VERSION:2.0
PRODID:-//Klub Sportowy Powiśle - ECPv4.6.8//NONSGML v1.0//EN
CALSCALE:GREGORIAN
METHOD:PUBLISH
X-WR-CALNAME:Klub Sportowy Powiśle
X-ORIGINAL-URL:https://www.kspowisle.pl
X-WR-CALDESC:Events for Klub Sportowy Powiśle
BEGIN:VEVENT
DTSTART;VALUE=DATE:20141206
DTEND;VALUE=DATE:20141208
DTSTAMP:20260422T225959
CREATED:20141119T093226Z
LAST-MODIFIED:20141119T093226Z
UID:1945-1417824000-1417996799@www.kspowisle.pl
SUMMARY:Turniej na Litwie
DESCRIPTION: 
URL:https://www.kspowisle.pl/event/turniej-na-litwie/
LOCATION:Naujoji g. 52\, Alytus\, 62381
END:VEVENT
END:VCALENDAR