BEGIN:VCALENDAR
VERSION:2.0
PRODID:-//Klub Sportowy Powiśle - ECPv4.6.8//NONSGML v1.0//EN
CALSCALE:GREGORIAN
METHOD:PUBLISH
X-WR-CALNAME:Klub Sportowy Powiśle
X-ORIGINAL-URL:https://www.kspowisle.pl
X-WR-CALDESC:Events for Klub Sportowy Powiśle
BEGIN:VEVENT
DTSTART;TZID=Europe/Warsaw:20150612T170000
DTEND;TZID=Europe/Warsaw:20150614T200000
DTSTAMP:20260422T001731
CREATED:20150430T204208Z
LAST-MODIFIED:20150430T204208Z
UID:2406-1434128400-1434312000@www.kspowisle.pl
SUMMARY:Turniej w Kaniowie
DESCRIPTION: 
URL:https://www.kspowisle.pl/event/turniej-w-kaniowie-2/
LOCATION:ul. Malinowa 6\, Kaniów\, Polska
CATEGORIES:Zawody
END:VEVENT
END:VCALENDAR