BEGIN:VCALENDAR
VERSION:2.0
PRODID:-//Klub Sportowy Powiśle - ECPv4.6.8//NONSGML v1.0//EN
CALSCALE:GREGORIAN
METHOD:PUBLISH
X-WR-CALNAME:Klub Sportowy Powiśle
X-ORIGINAL-URL:https://www.kspowisle.pl
X-WR-CALDESC:Events for Klub Sportowy Powiśle
BEGIN:VEVENT
DTSTART;VALUE=DATE:20150509
DTEND;VALUE=DATE:20150511
DTSTAMP:20260422T020028
CREATED:20150430T203803Z
LAST-MODIFIED:20150430T203803Z
UID:2405-1431129600-1431302399@www.kspowisle.pl
SUMMARY:Turniej w Leśnej
DESCRIPTION: 
URL:https://www.kspowisle.pl/event/turniej-w-lesnej-2/
CATEGORIES:Zawody
END:VEVENT
END:VCALENDAR