BEGIN:VCALENDAR
VERSION:2.0
PRODID:-//Klub Sportowy Powiśle - ECPv4.6.8//NONSGML v1.0//EN
CALSCALE:GREGORIAN
METHOD:PUBLISH
X-WR-CALNAME:Klub Sportowy Powiśle
X-ORIGINAL-URL:https://www.kspowisle.pl
X-WR-CALDESC:Events for Klub Sportowy Powiśle
BEGIN:VEVENT
DTSTART;VALUE=DATE:20140510
DTEND;VALUE=DATE:20140512
DTSTAMP:20260422T230814
CREATED:20140507T120229Z
LAST-MODIFIED:20140526T104059Z
UID:1479-1399680000-1399852799@www.kspowisle.pl
SUMMARY:Turniej w Leśnej
DESCRIPTION: 
URL:https://www.kspowisle.pl/event/turniej-w-lesnej/
CATEGORIES:Zawody
END:VEVENT
END:VCALENDAR