BEGIN:VCALENDAR
VERSION:2.0
PRODID:-//Klub Sportowy Powiśle - ECPv4.6.8//NONSGML v1.0//EN
CALSCALE:GREGORIAN
METHOD:PUBLISH
X-WR-CALNAME:Klub Sportowy Powiśle
X-ORIGINAL-URL:https://www.kspowisle.pl
X-WR-CALDESC:Events for Klub Sportowy Powiśle
BEGIN:VEVENT
DTSTART;TZID=Europe/Warsaw:20140729T170000
DTEND;TZID=Europe/Warsaw:20140729T190000
DTSTAMP:20260423T063949
CREATED:20140907T204536Z
LAST-MODIFIED:20140907T214421Z
UID:1849-1406653200-1406660400@www.kspowisle.pl
SUMMARY:Warszawa gra w kajak polo
DESCRIPTION:   \n \n\n\n\n \n
URL:https://www.kspowisle.pl/event/warszawa-gra-w-kajak-polo-22/
LOCATION:Solec 8\, Warszawa\, Polska
CATEGORIES:Zajęcia rekreacyjne
END:VEVENT
END:VCALENDAR