BEGIN:VCALENDAR
VERSION:2.0
PRODID:-//Klub Sportowy Powiśle - ECPv4.6.8//NONSGML v1.0//EN
CALSCALE:GREGORIAN
METHOD:PUBLISH
X-WR-CALNAME:Klub Sportowy Powiśle
X-ORIGINAL-URL:https://www.kspowisle.pl
X-WR-CALDESC:Events for Klub Sportowy Powiśle
BEGIN:VEVENT
DTSTART;TZID=Europe/Warsaw:20140925T170000
DTEND;TZID=Europe/Warsaw:20140925T190000
DTSTAMP:20260423T073104
CREATED:20140907T210119Z
LAST-MODIFIED:20140907T215857Z
UID:1857-1411664400-1411671600@www.kspowisle.pl
SUMMARY:Warszawa gra w kajak polo
DESCRIPTION:  \n \n
URL:https://www.kspowisle.pl/event/warszawa-gra-w-kajak-polo-30/
LOCATION:Solec 8\, Warszawa\, Polska
CATEGORIES:Zajęcia rekreacyjne
END:VEVENT
END:VCALENDAR