BEGIN:VCALENDAR
VERSION:2.0
PRODID:-//Klub Sportowy Powiśle - ECPv4.6.8//NONSGML v1.0//EN
CALSCALE:GREGORIAN
METHOD:PUBLISH
X-WR-CALNAME:Klub Sportowy Powiśle
X-ORIGINAL-URL:https://www.kspowisle.pl
X-WR-CALDESC:Events for Klub Sportowy Powiśle
BEGIN:VEVENT
DTSTART;TZID=Europe/Warsaw:20140821T173000
DTEND;TZID=Europe/Warsaw:20140821T193000
DTSTAMP:20260423T043547
CREATED:20140818T140012Z
LAST-MODIFIED:20140907T214800Z
UID:1781-1408642200-1408649400@www.kspowisle.pl
SUMMARY:Warszawa gra w kajak polo
DESCRIPTION:  \n \n
URL:https://www.kspowisle.pl/event/warszawa-gra-w-kajak-polo-7/
LOCATION:Solec 8\, Warszawa\, Polska
CATEGORIES:Zajęcia rekreacyjne
END:VEVENT
END:VCALENDAR