BEGIN:VCALENDAR
VERSION:2.0
PRODID:-//Klub Sportowy Powiśle - ECPv4.6.8//NONSGML v1.0//EN
CALSCALE:GREGORIAN
METHOD:PUBLISH
X-WR-CALNAME:Klub Sportowy Powiśle
X-ORIGINAL-URL:https://www.kspowisle.pl
X-WR-CALDESC:Events for Klub Sportowy Powiśle
BEGIN:VEVENT
DTSTART;TZID=Europe/Warsaw:20140823T160000
DTEND;TZID=Europe/Warsaw:20140823T180000
DTSTAMP:20260423T074020
CREATED:20140821T125650Z
LAST-MODIFIED:20140907T215214Z
UID:1784-1408809600-1408816800@www.kspowisle.pl
SUMMARY:Warszawa gra w kajak polo
DESCRIPTION:  \n \n
URL:https://www.kspowisle.pl/event/warszawa-gra-w-kajak-polo-8/
LOCATION:Solec 8\, Warszawa\, Polska
CATEGORIES:Zajęcia rekreacyjne
END:VEVENT
END:VCALENDAR