BEGIN:VCALENDAR
VERSION:2.0
PRODID:-//Klub Sportowy Powiśle - ECPv4.6.8//NONSGML v1.0//EN
CALSCALE:GREGORIAN
METHOD:PUBLISH
X-WR-CALNAME:Klub Sportowy Powiśle
X-ORIGINAL-URL:https://www.kspowisle.pl
X-WR-CALDESC:Events for Klub Sportowy Powiśle
BEGIN:VEVENT
DTSTART;VALUE=DATE:20160918
DTEND;VALUE=DATE:20160919
DTSTAMP:20260421T221504
CREATED:20160329T114407Z
LAST-MODIFIED:20160906T124750Z
UID:2740-1474156800-1474243199@www.kspowisle.pl
SUMMARY:Warszawska Olimpiada Młodzieży
DESCRIPTION: 
URL:https://www.kspowisle.pl/event/warszawska-olimpiada-mlodziezy-2/
LOCATION:Solec 8\, Warszawa\, Polska
CATEGORIES:Zawody
END:VEVENT
END:VCALENDAR