BEGIN:VCALENDAR
VERSION:2.0
PRODID:-//Klub Sportowy Powiśle - ECPv4.6.8//NONSGML v1.0//EN
CALSCALE:GREGORIAN
METHOD:PUBLISH
X-WR-CALNAME:Klub Sportowy Powiśle
X-ORIGINAL-URL:https://www.kspowisle.pl
X-WR-CALDESC:Events for Klub Sportowy Powiśle
BEGIN:VEVENT
DTSTART;TZID=Europe/Warsaw:20140621T100000
DTEND;TZID=Europe/Warsaw:20140621T160000
DTSTAMP:20260422T214306
CREATED:20140617T200532Z
LAST-MODIFIED:20140617T200815Z
UID:1625-1403344800-1403366400@www.kspowisle.pl
SUMMARY:WOM w Kajak Polo
DESCRIPTION: Warszawska Olimpiada Młodzierzy w Kajak Polo odbędzie się w Porcie Czerniakowskim. Boisko rozstawione zostanie na wysokości Klubu WTW.\nOdprawa kierowników ekip godz 10.00 Klub Turystyczny PTTK „Rejsy” ul.Solec 8. \nPoczątek Turnieju godz. 11.00\nKoniec w zależności od ilości zgłoszonych drużyn. \nZapraszamy do oglądania i kibicowania!\n \n
URL:https://www.kspowisle.pl/event/wom-w-kajak-polo/
LOCATION:Solec 8\, Warszawa\, Polska
CATEGORIES:Zawody
END:VEVENT
END:VCALENDAR