BEGIN:VCALENDAR
VERSION:2.0
PRODID:-//Klub Sportowy Powiśle - ECPv4.6.8//NONSGML v1.0//EN
CALSCALE:GREGORIAN
METHOD:PUBLISH
X-WR-CALNAME:Klub Sportowy Powiśle
X-ORIGINAL-URL:https://www.kspowisle.pl
X-WR-CALDESC:Events for Klub Sportowy Powiśle
BEGIN:VEVENT
DTSTART;TZID=Europe/Warsaw:20140613T150000
DTEND;TZID=Europe/Warsaw:20140613T210000
DTSTAMP:20260422T233009
CREATED:20140516T061207Z
LAST-MODIFIED:20140516T061207Z
UID:1512-1402671600-1402693200@www.kspowisle.pl
SUMMARY:Wyjazd do Kaniowa
DESCRIPTION: 
URL:https://www.kspowisle.pl/event/wyjazd-do-kaniowa/
END:VEVENT
END:VCALENDAR