BEGIN:VCALENDAR
VERSION:2.0
PRODID:-//Klub Sportowy Powiśle - ECPv4.6.8//NONSGML v1.0//EN
CALSCALE:GREGORIAN
METHOD:PUBLISH
X-WR-CALNAME:Klub Sportowy Powiśle
X-ORIGINAL-URL:https://www.kspowisle.pl
X-WR-CALDESC:Events for Klub Sportowy Powiśle
BEGIN:VEVENT
DTSTART;TZID=Europe/Warsaw:20150206T160000
DTEND;TZID=Europe/Warsaw:20150206T161000
DTSTAMP:20260422T045059
CREATED:20150123T161831Z
LAST-MODIFIED:20150123T161831Z
UID:2159-1423238400-1423239000@www.kspowisle.pl
SUMMARY:Wyjazd na turniej
DESCRIPTION: Bus ze sprzętem wyjeżdża w piątek o 16 z klubu. \n
URL:https://www.kspowisle.pl/event/wyjazd-na-turniej/
LOCATION:Solec 8\, Warszawa\, Polska
END:VEVENT
END:VCALENDAR