BEGIN:VCALENDAR
VERSION:2.0
PRODID:-//Klub Sportowy Powiśle - ECPv4.6.8//NONSGML v1.0//EN
CALSCALE:GREGORIAN
METHOD:PUBLISH
X-WR-CALNAME:Klub Sportowy Powiśle
X-ORIGINAL-URL:https://www.kspowisle.pl
X-WR-CALDESC:Events for Klub Sportowy Powiśle
BEGIN:VEVENT
DTSTART;TZID=Europe/Warsaw:20140508T180000
DTEND;TZID=Europe/Warsaw:20140508T200000
DTSTAMP:20260423T011650
CREATED:20140521T185240Z
LAST-MODIFIED:20140907T211019Z
UID:1553-1399572000-1399579200@www.kspowisle.pl
SUMMARY:Warszawa gra w kajak polo
DESCRIPTION: \n \n\n\n\n \n
URL:https://www.kspowisle.pl/event/zajecia-rekreacyjne-2/
LOCATION:Solec 8\, Warszawa\, Polska
CATEGORIES:Zajęcia rekreacyjne
END:VEVENT
END:VCALENDAR