BEGIN:VCALENDAR
VERSION:2.0
PRODID:-//Klub Sportowy Powiśle - ECPv4.6.8//NONSGML v1.0//EN
CALSCALE:GREGORIAN
METHOD:PUBLISH
X-WR-CALNAME:Klub Sportowy Powiśle
X-ORIGINAL-URL:https://www.kspowisle.pl
X-WR-CALDESC:Events for Klub Sportowy Powiśle
BEGIN:VEVENT
DTSTART;TZID=Europe/Warsaw:20140515T180000
DTEND;TZID=Europe/Warsaw:20140515T200000
DTSTAMP:20260423T023806
CREATED:20140521T185733Z
LAST-MODIFIED:20140907T212418Z
UID:1555-1400176800-1400184000@www.kspowisle.pl
SUMMARY:Warszawa gra w kajak polo
DESCRIPTION:  \n \n
URL:https://www.kspowisle.pl/event/zajecia-rekreacyjne-4/
LOCATION:Solec 8\, Warszawa\, Polska
CATEGORIES:Zajęcia rekreacyjne
END:VEVENT
END:VCALENDAR