BEGIN:VCALENDAR
VERSION:2.0
PRODID:-//Klub Sportowy Powiśle - ECPv4.6.8//NONSGML v1.0//EN
CALSCALE:GREGORIAN
METHOD:PUBLISH
X-WR-CALNAME:Klub Sportowy Powiśle
X-ORIGINAL-URL:https://www.kspowisle.pl
X-WR-CALDESC:Events for Klub Sportowy Powiśle
BEGIN:VEVENT
DTSTART;TZID=Europe/Warsaw:20140506T180000
DTEND;TZID=Europe/Warsaw:20140506T200000
DTSTAMP:20260422T234847
CREATED:20140521T184933Z
LAST-MODIFIED:20140813T124400Z
UID:1552-1399399200-1399406400@www.kspowisle.pl
SUMMARY:Warszawa gra w kajak polo
DESCRIPTION:  \n\n \n\n
URL:https://www.kspowisle.pl/event/zajecia-rekreacyjne/
LOCATION:Solec 8\, Warszawa\, Polska
CATEGORIES:Zajęcia rekreacyjne
END:VEVENT
END:VCALENDAR