BEGIN:VCALENDAR
VERSION:2.0
PRODID:-//Klub Sportowy Powiśle - ECPv4.6.8//NONSGML v1.0//EN
CALSCALE:GREGORIAN
METHOD:PUBLISH
X-WR-CALNAME:Klub Sportowy Powiśle
X-ORIGINAL-URL:https://www.kspowisle.pl
X-WR-CALDESC:Events for Klub Sportowy Powiśle
BEGIN:VEVENT
DTSTART;VALUE=DATE:20151017
DTEND;VALUE=DATE:20151018
DTSTAMP:20260421T171827
CREATED:20150902T121325Z
LAST-MODIFIED:20150920T080409Z
UID:2492-1445040000-1445126399@www.kspowisle.pl
SUMMARY:Zakończenie sezonu
DESCRIPTION: 
URL:https://www.kspowisle.pl/event/zakonczenie-sezonu-2/
LOCATION:Solec 8\, Warszawa\, Polska
END:VEVENT
END:VCALENDAR